Package: SAIGEgds Version: 2.10.0 Command: /home/biocbuild/bbs-3.22-bioc/R/bin/R CMD build --keep-empty-dirs --no-resave-data --md5 SAIGEgds StartedAt: 2025-11-13 19:53:37 -0500 (Thu, 13 Nov 2025) EndedAt: 2025-11-13 19:55:06 -0500 (Thu, 13 Nov 2025) EllapsedTime: 89.1 seconds RetCode: 0 Status: OK PackageFile: SAIGEgds_2.10.0.tar.gz PackageFileSize: 1.981 MiB