Package: SAIGEgds Version: 2.10.0 Command: /Library/Frameworks/R.framework/Resources/bin/R CMD INSTALL SAIGEgds StartedAt: 2025-11-10 15:14:48 -0500 (Mon, 10 Nov 2025) EndedAt: 2025-11-10 15:15:06 -0500 (Mon, 10 Nov 2025) EllapsedTime: 18.1 seconds RetCode: 0 Status: OK