Package: SAIGEgds Version: 2.10.0 Command: /Library/Frameworks/R.framework/Resources/bin/R CMD build --keep-empty-dirs --no-resave-data SAIGEgds StartedAt: 2025-11-10 17:36:14 -0500 (Mon, 10 Nov 2025) EndedAt: 2025-11-10 17:36:41 -0500 (Mon, 10 Nov 2025) EllapsedTime: 26.3 seconds RetCode: 0 Status: OK PackageFile: SAIGEgds_2.10.0.tar.gz PackageFileSize: 1.981 MiB