Package: S4Vectors Version: 0.48.0 Command: /home/biocbuild/bbs-3.22-bioc/R/bin/R CMD INSTALL S4Vectors StartedAt: 2025-11-11 15:16:01 -0500 (Tue, 11 Nov 2025) EndedAt: 2025-11-11 15:16:26 -0500 (Tue, 11 Nov 2025) EllapsedTime: 24.6 seconds RetCode: 0 Status: OK