Package: S4Vectors Version: 0.48.0 Command: /home/biocbuild/bbs-3.22-bioc/R/bin/R CMD build --keep-empty-dirs --no-resave-data --md5 S4Vectors StartedAt: 2025-11-13 19:53:32 -0500 (Thu, 13 Nov 2025) EndedAt: 2025-11-13 19:54:29 -0500 (Thu, 13 Nov 2025) EllapsedTime: 57.1 seconds RetCode: 0 Status: OK PackageFile: S4Vectors_0.48.0.tar.gz PackageFileSize: 824.1 KiB