Package: S4Vectors Version: 0.48.0 Command: /Library/Frameworks/R.framework/Resources/bin/R CMD INSTALL S4Vectors StartedAt: 2025-11-10 15:06:35 -0500 (Mon, 10 Nov 2025) EndedAt: 2025-11-10 15:06:43 -0500 (Mon, 10 Nov 2025) EllapsedTime: 8.4 seconds RetCode: 0 Status: OK