Package: S4Vectors Version: 0.48.0 Command: /Library/Frameworks/R.framework/Resources/bin/R CMD build --keep-empty-dirs --no-resave-data S4Vectors StartedAt: 2025-11-10 17:36:12 -0500 (Mon, 10 Nov 2025) EndedAt: 2025-11-10 17:36:38 -0500 (Mon, 10 Nov 2025) EllapsedTime: 25.3 seconds RetCode: 0 Status: OK PackageFile: S4Vectors_0.48.0.tar.gz PackageFileSize: 799 KiB