Package: S4Arrays Version: 1.10.0 Command: /home/biocbuild/bbs-3.22-bioc/R/bin/R CMD check --install=check:S4Arrays.install-out.txt --library=/home/biocbuild/bbs-3.22-bioc/R/site-library --timings S4Arrays_1.10.0.tar.gz StartedAt: 2025-11-12 03:38:52 -0500 (Wed, 12 Nov 2025) EndedAt: 2025-11-12 03:41:15 -0500 (Wed, 12 Nov 2025) EllapsedTime: 142.1 seconds RetCode: 0 Status: OK CheckDir: S4Arrays.Rcheck Warnings: 0