Package: S4Arrays Version: 1.8.1 Command: /home/biocbuild/bbs-3.21-bioc/R/bin/R CMD build --keep-empty-dirs --no-resave-data S4Arrays StartedAt: 2025-10-15 19:37:56 -0400 (Wed, 15 Oct 2025) EndedAt: 2025-10-15 19:38:17 -0400 (Wed, 15 Oct 2025) EllapsedTime: 21.0 seconds RetCode: 0 Status: OK PackageFile: S4Arrays_1.8.1.tar.gz PackageFileSize: 287.6 KiB