Package: S4Arrays Version: 1.10.0 Command: /Library/Frameworks/R.framework/Resources/bin/R CMD INSTALL S4Arrays StartedAt: 2025-11-20 16:10:02 -0500 (Thu, 20 Nov 2025) EndedAt: 2025-11-20 16:10:39 -0500 (Thu, 20 Nov 2025) EllapsedTime: 37.0 seconds RetCode: 0 Status: OK