Package: S4Arrays Version: 1.10.0 Command: /Library/Frameworks/R.framework/Resources/bin/R CMD build --keep-empty-dirs --no-resave-data S4Arrays StartedAt: 2025-11-20 23:20:21 -0500 (Thu, 20 Nov 2025) EndedAt: 2025-11-20 23:21:13 -0500 (Thu, 20 Nov 2025) EllapsedTime: 51.9 seconds RetCode: 0 Status: OK PackageFile: S4Arrays_1.10.0.tar.gz PackageFileSize: 288 KiB