Package: S4Arrays Version: 1.8.1 Command: /Library/Frameworks/R.framework/Resources/bin/R CMD build --keep-empty-dirs --no-resave-data S4Arrays StartedAt: 2025-10-14 08:19:40 -0400 (Tue, 14 Oct 2025) EndedAt: 2025-10-14 08:20:07 -0400 (Tue, 14 Oct 2025) EllapsedTime: 27.2 seconds RetCode: 0 Status: OK PackageFile: S4Arrays_1.8.1.tar.gz PackageFileSize: 287.5 KiB