Package: Rvisdiff Version: 1.8.0 Command: /home/biocbuild/R/R/bin/R CMD INSTALL Rvisdiff StartedAt: 2025-11-10 21:04:34 -0000 (Mon, 10 Nov 2025) EndedAt: 2025-11-10 21:05:17 -0000 (Mon, 10 Nov 2025) EllapsedTime: 42.8 seconds RetCode: 0 Status: OK