Package: Rvisdiff Version: 1.8.0 Command: /home/biocbuild/R/R/bin/R CMD check --install=check:Rvisdiff.install-out.txt --library=/home/biocbuild/R/R/site-library --no-vignettes --timings Rvisdiff_1.8.0.tar.gz StartedAt: 2025-11-11 14:12:53 -0000 (Tue, 11 Nov 2025) EndedAt: 2025-11-11 14:16:22 -0000 (Tue, 11 Nov 2025) EllapsedTime: 209.3 seconds RetCode: 0 Status: OK CheckDir: Rvisdiff.Rcheck Warnings: 0