Package: Rvisdiff Version: 1.8.0 Command: /home/biocbuild/R/R/bin/R CMD build --keep-empty-dirs --no-resave-data Rvisdiff StartedAt: 2025-11-11 04:45:23 -0000 (Tue, 11 Nov 2025) EndedAt: 2025-11-11 04:46:43 -0000 (Tue, 11 Nov 2025) EllapsedTime: 80.0 seconds RetCode: 0 Status: OK PackageFile: Rvisdiff_1.8.0.tar.gz PackageFileSize: 1.379 MiB