Package: Rvisdiff Version: 1.8.0 Command: /home/biocbuild/bbs-3.22-bioc/R/bin/R CMD check --install=check:Rvisdiff.install-out.txt --library=/home/biocbuild/bbs-3.22-bioc/R/site-library --timings Rvisdiff_1.8.0.tar.gz StartedAt: 2025-11-12 03:38:37 -0500 (Wed, 12 Nov 2025) EndedAt: 2025-11-12 03:42:03 -0500 (Wed, 12 Nov 2025) EllapsedTime: 205.3 seconds RetCode: 0 Status: OK CheckDir: Rvisdiff.Rcheck Warnings: 0