Package: Rtreemix Version: 1.70.0 Command: /home/biocbuild/bbs-3.21-bioc/R/bin/R CMD INSTALL Rtreemix StartedAt: 2025-09-28 15:28:35 -0400 (Sun, 28 Sep 2025) EndedAt: 2025-09-28 15:29:27 -0400 (Sun, 28 Sep 2025) EllapsedTime: 52.3 seconds RetCode: 0 Status: OK