Package: Rtreemix Version: 1.70.0 Command: /home/biocbuild/bbs-3.21-bioc/R/bin/R CMD build --keep-empty-dirs --no-resave-data Rtreemix StartedAt: 2025-09-28 19:48:58 -0400 (Sun, 28 Sep 2025) EndedAt: 2025-09-28 19:49:52 -0400 (Sun, 28 Sep 2025) EllapsedTime: 54.0 seconds RetCode: 1 Status: ERROR PackageFile: None PackageFileSize: NA