Package: Rtreemix Version: 1.70.0 Command: /Library/Frameworks/R.framework/Resources/bin/R CMD build --keep-empty-dirs --no-resave-data Rtreemix StartedAt: 2025-10-13 22:12:02 -0400 (Mon, 13 Oct 2025) EndedAt: 2025-10-13 22:14:05 -0400 (Mon, 13 Oct 2025) EllapsedTime: 123.2 seconds RetCode: 1 Status: ERROR PackageFile: None PackageFileSize: NA