Package: Rtreemix Version: 1.70.0 Command: /Library/Frameworks/R.framework/Resources/bin/R CMD build --keep-empty-dirs --no-resave-data Rtreemix StartedAt: 2025-04-21 18:15:22 -0400 (Mon, 21 Apr 2025) EndedAt: 2025-04-21 18:16:21 -0400 (Mon, 21 Apr 2025) EllapsedTime: 58.3 seconds RetCode: 1 Status: ERROR PackageFile: None PackageFileSize: NA