Package: Rtreemix Version: 1.70.0 Command: /Library/Frameworks/R.framework/Resources/bin/R CMD INSTALL Rtreemix StartedAt: 2025-09-29 16:00:01 -0400 (Mon, 29 Sep 2025) EndedAt: 2025-09-29 16:00:54 -0400 (Mon, 29 Sep 2025) EllapsedTime: 52.9 seconds RetCode: 0 Status: OK