Package: Rtreemix Version: 1.70.0 Command: /Library/Frameworks/R.framework/Resources/bin/R CMD build --keep-empty-dirs --no-resave-data Rtreemix StartedAt: 2025-09-30 08:13:02 -0400 (Tue, 30 Sep 2025) EndedAt: 2025-09-30 08:14:01 -0400 (Tue, 30 Sep 2025) EllapsedTime: 58.8 seconds RetCode: 1 Status: ERROR PackageFile: None PackageFileSize: NA