Package: Rtpca Version: 1.20.0 Command: /home/biocbuild/bbs-3.22-bioc/R/bin/R CMD INSTALL Rtpca StartedAt: 2025-11-13 15:13:19 -0500 (Thu, 13 Nov 2025) EndedAt: 2025-11-13 15:13:28 -0500 (Thu, 13 Nov 2025) EllapsedTime: 8.9 seconds RetCode: 0 Status: OK