Package: Rsamtools Version: 2.26.0 Command: /home/biocbuild/bbs-3.22-bioc/R/bin/R CMD INSTALL Rsamtools StartedAt: 2025-11-11 15:19:35 -0500 (Tue, 11 Nov 2025) EndedAt: 2025-11-11 15:20:14 -0500 (Tue, 11 Nov 2025) EllapsedTime: 38.9 seconds RetCode: 0 Status: OK