Package: Rsamtools Version: 2.26.0 Command: /home/biocbuild/bbs-3.22-bioc/R/bin/R CMD build --keep-empty-dirs --no-resave-data --md5 Rsamtools StartedAt: 2025-11-11 19:52:25 -0500 (Tue, 11 Nov 2025) EndedAt: 2025-11-11 19:53:28 -0500 (Tue, 11 Nov 2025) EllapsedTime: 63.1 seconds RetCode: 0 Status: OK PackageFile: Rsamtools_2.26.0.tar.gz PackageFileSize: 1.828 MiB