Package: Rsamtools Version: 2.24.1 Command: /home/biocbuild/R/R/bin/R CMD build --keep-empty-dirs --no-resave-data Rsamtools StartedAt: 2025-10-14 04:12:49 -0000 (Tue, 14 Oct 2025) EndedAt: 2025-10-14 04:14:16 -0000 (Tue, 14 Oct 2025) EllapsedTime: 87.0 seconds RetCode: 0 Status: OK PackageFile: Rsamtools_2.24.1.tar.gz PackageFileSize: 2.809 MiB