Package: Rsamtools Version: 2.26.0 Command: /Library/Frameworks/R.framework/Resources/bin/R CMD INSTALL Rsamtools StartedAt: 2025-11-06 15:10:37 -0500 (Thu, 06 Nov 2025) EndedAt: 2025-11-06 15:10:52 -0500 (Thu, 06 Nov 2025) EllapsedTime: 15.2 seconds RetCode: 0 Status: OK