Package: Rsamtools Version: 2.26.0 Command: rm -rf Rsamtools.buildbin-libdir && mkdir Rsamtools.buildbin-libdir && /Users/biocbuild/BBS/utils/build-universal.sh Rsamtools_2.26.0.tar.gz /Library/Frameworks/R.framework/Resources/bin/R Rsamtools.buildbin-libdir StartedAt: 2025-11-06 23:19:38 -0500 (Thu, 06 Nov 2025) EndedAt: 2025-11-06 23:19:56 -0500 (Thu, 06 Nov 2025) EllapsedTime: 17.4 seconds RetCode: 0 Status: OK PackageFile: Rsamtools_2.26.0.tgz PackageFileSize: 3.089 MiB