Package: Rqc Version: 1.44.0 Command: /Library/Frameworks/R.framework/Resources/bin/R CMD INSTALL Rqc StartedAt: 2025-11-03 15:51:57 -0500 (Mon, 03 Nov 2025) EndedAt: 2025-11-03 15:53:11 -0500 (Mon, 03 Nov 2025) EllapsedTime: 73.7 seconds RetCode: 0 Status: OK