Package: Rqc Version: 1.44.0 Command: rm -rf Rqc.buildbin-libdir && mkdir Rqc.buildbin-libdir && /Users/biocbuild/BBS/utils/build-universal.sh Rqc_1.44.0.tar.gz /Library/Frameworks/R.framework/Resources/bin/R Rqc.buildbin-libdir StartedAt: 2025-11-04 02:00:43 -0500 (Tue, 04 Nov 2025) EndedAt: 2025-11-04 02:01:59 -0500 (Tue, 04 Nov 2025) EllapsedTime: 76.2 seconds RetCode: 0 Status: OK PackageFile: Rqc_1.44.0.tgz PackageFileSize: 1.439 MiB