Package: RolDE Version: 1.14.0 Command: /home/biocbuild/bbs-3.22-bioc/R/bin/R CMD INSTALL RolDE StartedAt: 2025-11-20 16:14:08 -0500 (Thu, 20 Nov 2025) EndedAt: 2025-11-20 16:14:31 -0500 (Thu, 20 Nov 2025) EllapsedTime: 23.2 seconds RetCode: 0 Status: OK