Package: RolDE Version: 1.14.0 Command: /home/biocbuild/bbs-3.22-bioc/R/bin/R CMD build --keep-empty-dirs --no-resave-data --md5 RolDE StartedAt: 2025-11-20 20:32:35 -0500 (Thu, 20 Nov 2025) EndedAt: 2025-11-20 20:33:05 -0500 (Thu, 20 Nov 2025) EllapsedTime: 30.0 seconds RetCode: 0 Status: OK PackageFile: RolDE_1.14.0.tar.gz PackageFileSize: 1.26 MiB