Package: Rnits Version: 1.44.0 Command: /home/biocbuild/bbs-3.22-bioc/R/bin/R CMD INSTALL Rnits StartedAt: 2025-11-13 15:13:28 -0500 (Thu, 13 Nov 2025) EndedAt: 2025-11-13 15:13:37 -0500 (Thu, 13 Nov 2025) EllapsedTime: 8.9 seconds RetCode: 0 Status: OK