Package: RnaSeqSampleSize Version: 2.20.0 Command: /home/biocbuild/bbs-3.22-bioc/R/bin/R CMD INSTALL RnaSeqSampleSize StartedAt: 2025-11-11 16:03:26 -0500 (Tue, 11 Nov 2025) EndedAt: 2025-11-11 16:04:20 -0500 (Tue, 11 Nov 2025) EllapsedTime: 54.0 seconds RetCode: 0 Status: OK