Package: RnaSeqSampleSize Version: 2.20.0 Command: /Library/Frameworks/R.framework/Resources/bin/R CMD INSTALL RnaSeqSampleSize StartedAt: 2025-11-03 15:56:25 -0500 (Mon, 03 Nov 2025) EndedAt: 2025-11-03 15:56:28 -0500 (Mon, 03 Nov 2025) EllapsedTime: 3.7 seconds RetCode: 1 Status: ERROR