Package: RnaSeqSampleSize Version: 2.20.0 Command: /Library/Frameworks/R.framework/Resources/bin/R CMD build --keep-empty-dirs --no-resave-data RnaSeqSampleSize StartedAt: 2025-11-03 18:31:11 -0500 (Mon, 03 Nov 2025) EndedAt: 2025-11-03 18:31:17 -0500 (Mon, 03 Nov 2025) EllapsedTime: 5.7 seconds RetCode: 1 Status: ERROR PackageFile: None PackageFileSize: NA