Package: RnaSeqSampleSize Version: 2.18.0 Command: /home/biocbuild/R/R/bin/R CMD INSTALL RnaSeqSampleSize StartedAt: 2025-10-13 21:18:02 -0000 (Mon, 13 Oct 2025) EndedAt: 2025-10-13 21:19:21 -0000 (Mon, 13 Oct 2025) EllapsedTime: 78.7 seconds RetCode: 0 Status: OK