Package: RnaSeqSampleSize Version: 2.18.0 Command: /home/biocbuild/R/R/bin/R CMD build --keep-empty-dirs --no-resave-data RnaSeqSampleSize StartedAt: 2025-10-14 04:08:39 -0000 (Tue, 14 Oct 2025) EndedAt: 2025-10-14 04:11:42 -0000 (Tue, 14 Oct 2025) EllapsedTime: 183.1 seconds RetCode: 0 Status: OK PackageFile: RnaSeqSampleSize_2.18.0.tar.gz PackageFileSize: 227.8 KiB