Package: RnBeads Version: 2.28.0 Command: /home/biocbuild/bbs-3.22-bioc/R/bin/R CMD INSTALL RnBeads StartedAt: 2025-11-11 16:05:37 -0500 (Tue, 11 Nov 2025) EndedAt: 2025-11-11 16:07:00 -0500 (Tue, 11 Nov 2025) EllapsedTime: 83.8 seconds RetCode: 0 Status: OK