Package: RnBeads Version: 2.28.0 Command: /Library/Frameworks/R.framework/Resources/bin/R CMD INSTALL RnBeads StartedAt: 2025-11-10 15:32:08 -0500 (Mon, 10 Nov 2025) EndedAt: 2025-11-10 15:32:40 -0500 (Mon, 10 Nov 2025) EllapsedTime: 31.7 seconds RetCode: 0 Status: OK