Package: RnBeads Version: 2.28.0 Command: rm -rf RnBeads.buildbin-libdir && mkdir RnBeads.buildbin-libdir && /Users/biocbuild/BBS/utils/build-universal.sh RnBeads_2.28.0.tar.gz /Library/Frameworks/R.framework/Resources/bin/R RnBeads.buildbin-libdir StartedAt: 2025-11-10 23:34:19 -0500 (Mon, 10 Nov 2025) EndedAt: 2025-11-10 23:34:53 -0500 (Mon, 10 Nov 2025) EllapsedTime: 34.8 seconds RetCode: 0 Status: OK PackageFile: RnBeads_2.28.0.tgz PackageFileSize: 7.973 MiB