Package: Rmmquant Version: 1.28.0 Command: /home/biocbuild/bbs-3.22-bioc/R/bin/R CMD check --install=check:Rmmquant.install-out.txt --library=/home/biocbuild/bbs-3.22-bioc/R/site-library --timings Rmmquant_1.28.0.tar.gz StartedAt: 2025-11-12 03:26:32 -0500 (Wed, 12 Nov 2025) EndedAt: 2025-11-12 03:31:40 -0500 (Wed, 12 Nov 2025) EllapsedTime: 308.3 seconds RetCode: 0 Status: OK CheckDir: Rmmquant.Rcheck Warnings: 0