Package: Rmmquant Version: 1.26.0 Command: /home/biocbuild/bbs-3.21-bioc/R/bin/R CMD build --keep-empty-dirs --no-resave-data Rmmquant StartedAt: 2025-10-01 19:35:41 -0400 (Wed, 01 Oct 2025) EndedAt: 2025-10-01 19:37:01 -0400 (Wed, 01 Oct 2025) EllapsedTime: 80.1 seconds RetCode: 0 Status: OK PackageFile: Rmmquant_1.26.0.tar.gz PackageFileSize: 44.99 KiB