Package: Rmmquant Version: 1.26.0 Command: /Library/Frameworks/R.framework/Resources/bin/R CMD INSTALL Rmmquant StartedAt: 2025-10-13 16:09:03 -0400 (Mon, 13 Oct 2025) EndedAt: 2025-10-13 16:10:59 -0400 (Mon, 13 Oct 2025) EllapsedTime: 115.8 seconds RetCode: 0 Status: OK