Package: Rmmquant Version: 1.26.0 Command: rm -rf Rmmquant.buildbin-libdir && mkdir Rmmquant.buildbin-libdir && /Users/biocbuild/BBS/utils/build-universal.sh Rmmquant_1.26.0.tar.gz /Library/Frameworks/R.framework/Resources/bin/R Rmmquant.buildbin-libdir StartedAt: 2025-10-14 14:35:19 -0400 (Tue, 14 Oct 2025) EndedAt: 2025-10-14 14:37:50 -0400 (Tue, 14 Oct 2025) EllapsedTime: 150.5 seconds RetCode: 0 Status: OK PackageFile: Rmmquant_1.26.0.tgz PackageFileSize: 450.7 KiB