Package: Rmmquant Version: 1.26.0 Command: rm -rf Rmmquant.buildbin-libdir && mkdir Rmmquant.buildbin-libdir && /Users/biocbuild/BBS/utils/build-universal.sh Rmmquant_1.26.0.tar.gz /Library/Frameworks/R.framework/Resources/bin/R Rmmquant.buildbin-libdir StartedAt: 2025-04-22 01:04:44 -0400 (Tue, 22 Apr 2025) EndedAt: 2025-04-22 01:06:02 -0400 (Tue, 22 Apr 2025) EllapsedTime: 78.2 seconds RetCode: 0 Status: OK PackageFile: Rmmquant_1.26.0.tgz PackageFileSize: 456.9 KiB