Package: Rmmquant Version: 1.26.0 Command: /Library/Frameworks/R.framework/Resources/bin/R CMD INSTALL Rmmquant StartedAt: 2025-10-02 17:14:17 -0400 (Thu, 02 Oct 2025) EndedAt: 2025-10-02 17:15:21 -0400 (Thu, 02 Oct 2025) EllapsedTime: 63.5 seconds RetCode: 0 Status: OK