Package: Rmmquant Version: 1.26.0 Command: /Library/Frameworks/R.framework/Resources/bin/R CMD build --keep-empty-dirs --no-resave-data Rmmquant StartedAt: 2025-10-03 07:50:17 -0400 (Fri, 03 Oct 2025) EndedAt: 2025-10-03 07:51:59 -0400 (Fri, 03 Oct 2025) EllapsedTime: 101.7 seconds RetCode: 0 Status: OK PackageFile: Rmmquant_1.26.0.tar.gz PackageFileSize: 45.36 KiB