Package: Rmmquant Version: 1.26.0 Command: rm -rf Rmmquant.buildbin-libdir && mkdir Rmmquant.buildbin-libdir && /Users/biocbuild/BBS/utils/build-universal.sh Rmmquant_1.26.0.tar.gz /Library/Frameworks/R.framework/Resources/bin/R Rmmquant.buildbin-libdir StartedAt: 2025-10-04 19:40:05 -0400 (Sat, 04 Oct 2025) EndedAt: 2025-10-04 19:41:14 -0400 (Sat, 04 Oct 2025) EllapsedTime: 69.7 seconds RetCode: 0 Status: OK PackageFile: Rmmquant_1.26.0.tgz PackageFileSize: 442.5 KiB