Package: Rmagpie Version: 1.66.0 Command: /home/biocbuild/bbs-3.22-bioc/R/bin/R CMD build --keep-empty-dirs --no-resave-data --md5 Rmagpie StartedAt: 2025-11-11 19:47:49 -0500 (Tue, 11 Nov 2025) EndedAt: 2025-11-11 19:48:21 -0500 (Tue, 11 Nov 2025) EllapsedTime: 32.0 seconds RetCode: 0 Status: OK PackageFile: Rmagpie_1.66.0.tar.gz PackageFileSize: 483.4 KiB